BEGIN:VCALENDAR
VERSION:2.0
PRODID:-//Lake Tahoe Knight Monsters//knightmonstershockey.com//EN
CALSCALE:GREGORIAN
BEGIN:VEVENT
UID:https://knightmonstershockey.com/games/2026/05/06/kansas-city-mavericks
DTSTAMP:20260420T050650Z
SUMMARY:Tahoe Knight Monsters @ Kansas City Mavericks
DTSTART;TZID=Canada/Central:20260506T190500
DTEND;TZID=Canada/Central:20260506T220500
DESCRIPTION:Tahoe Knight Monsters at Kansas City Mavericks
LOCATION:Cable Dahmer Arena\, Independence\, Missouri
URL;VALUE=URI:https://knightmonstershockey.com/games/2026/05/06/kansas-city
 -mavericks
END:VEVENT
END:VCALENDAR
