BEGIN:VCALENDAR
VERSION:2.0
PRODID:-//Lake Tahoe Knight Monsters//knightmonstershockey.com//EN
CALSCALE:GREGORIAN
BEGIN:VEVENT
UID:https://knightmonstershockey.com/games/2026/04/29/kansas-city-mavericks
DTSTAMP:20260420T035827Z
SUMMARY:Kansas City Mavericks @ Tahoe Knight Monsters
DTSTART;TZID=Canada/Pacific:20260429T190000
DTEND;TZID=Canada/Pacific:20260429T220000
DESCRIPTION:Kansas City Mavericks at Tahoe Knight Monsters
LOCATION:Tahoe Blue Event Center\, Stateline\, Nevada
URL;VALUE=URI:https://knightmonstershockey.com/games/2026/04/29/kansas-city
 -mavericks
END:VEVENT
END:VCALENDAR
